BEGIN:VCALENDAR
VERSION:2.0
PRODID:-//Flußbach - ECPv6.0.11//NONSGML v1.0//EN
CALSCALE:GREGORIAN
METHOD:PUBLISH
X-ORIGINAL-URL:https://flussbach.de
X-WR-CALDESC:Veranstaltungen für Flußbach
REFRESH-INTERVAL;VALUE=DURATION:PT1H
X-Robots-Tag:noindex
X-PUBLISHED-TTL:PT1H
BEGIN:VTIMEZONE
TZID:Europe/Paris
BEGIN:DAYLIGHT
TZOFFSETFROM:+0100
TZOFFSETTO:+0200
TZNAME:CEST
DTSTART:20250330T010000
END:DAYLIGHT
BEGIN:STANDARD
TZOFFSETFROM:+0200
TZOFFSETTO:+0100
TZNAME:CET
DTSTART:20251026T010000
END:STANDARD
END:VTIMEZONE
BEGIN:VEVENT
DTSTART;TZID=Europe/Paris:20251206T170000
DTEND;TZID=Europe/Paris:20251206T190000
DTSTAMP:20260421T221509
CREATED:20251130T200647Z
LAST-MODIFIED:20251130T201052Z
UID:4268-1765040400-1765047600@flussbach.de
SUMMARY:6. Adventsfenster
DESCRIPTION:
URL:https://flussbach.de/event/6-adventsfenster/
LOCATION:Festplatz Flußbach\, Im Brühl\, Flußbach\, 54516\, Deutschland
END:VEVENT
END:VCALENDAR